BEGIN:VCALENDAR
VERSION:2.0
PRODID:-//Friedrich-Kayser-Schule - ECPv6.15.20//NONSGML v1.0//EN
CALSCALE:GREGORIAN
METHOD:PUBLISH
X-WR-CALNAME:Friedrich-Kayser-Schule
X-ORIGINAL-URL:https://fks.schwerte.de
X-WR-CALDESC:Veranstaltungen für Friedrich-Kayser-Schule
REFRESH-INTERVAL;VALUE=DURATION:PT1H
X-Robots-Tag:noindex
X-PUBLISHED-TTL:PT1H
BEGIN:VTIMEZONE
TZID:Europe/Berlin
BEGIN:DAYLIGHT
TZOFFSETFROM:+0100
TZOFFSETTO:+0200
TZNAME:CEST
DTSTART:20230326T010000
END:DAYLIGHT
BEGIN:STANDARD
TZOFFSETFROM:+0200
TZOFFSETTO:+0100
TZNAME:CET
DTSTART:20231029T010000
END:STANDARD
BEGIN:DAYLIGHT
TZOFFSETFROM:+0100
TZOFFSETTO:+0200
TZNAME:CEST
DTSTART:20240331T010000
END:DAYLIGHT
BEGIN:STANDARD
TZOFFSETFROM:+0200
TZOFFSETTO:+0100
TZNAME:CET
DTSTART:20241027T010000
END:STANDARD
BEGIN:DAYLIGHT
TZOFFSETFROM:+0100
TZOFFSETTO:+0200
TZNAME:CEST
DTSTART:20250330T010000
END:DAYLIGHT
BEGIN:STANDARD
TZOFFSETFROM:+0200
TZOFFSETTO:+0100
TZNAME:CET
DTSTART:20251026T010000
END:STANDARD
END:VTIMEZONE
BEGIN:VEVENT
DTSTART;VALUE=DATE:20240705
DTEND;VALUE=DATE:20240821
DTSTAMP:20260424T005019
CREATED:20240704T155006Z
LAST-MODIFIED:20240704T155142Z
UID:3758-1720137600-1724198399@fks.schwerte.de
SUMMARY:Sommerferien
DESCRIPTION:
URL:https://fks.schwerte.de/termin/sommerferien-2/
CATEGORIES:Ferien
END:VEVENT
BEGIN:VEVENT
DTSTART;VALUE=DATE:20240821
DTEND;VALUE=DATE:20240822
DTSTAMP:20260424T005019
CREATED:20240816T121207Z
LAST-MODIFIED:20240816T121207Z
UID:3791-1724198400-1724284799@fks.schwerte.de
SUMMARY:1. Schultag (Klassen 2-4)
DESCRIPTION:
URL:https://fks.schwerte.de/termin/1-schultag-klassen-2-4/
END:VEVENT
BEGIN:VEVENT
DTSTART;VALUE=DATE:20240822
DTEND;VALUE=DATE:20240823
DTSTAMP:20260424T005019
CREATED:20240816T121237Z
LAST-MODIFIED:20240816T121237Z
UID:3793-1724284800-1724371199@fks.schwerte.de
SUMMARY:Einschulung
DESCRIPTION:
URL:https://fks.schwerte.de/termin/einschulung-2/
END:VEVENT
BEGIN:VEVENT
DTSTART;VALUE=DATE:20240828
DTEND;VALUE=DATE:20240829
DTSTAMP:20260424T005019
CREATED:20240816T121313Z
LAST-MODIFIED:20240816T121313Z
UID:3795-1724803200-1724889599@fks.schwerte.de
SUMMARY:Waldjugendspiele 4
DESCRIPTION:
URL:https://fks.schwerte.de/termin/waldjugendspiele-4/
END:VEVENT
END:VCALENDAR