BEGIN:VCALENDAR
VERSION:2.0
PRODID:-//Friedrich-Kayser-Schule - ECPv6.15.20//NONSGML v1.0//EN
CALSCALE:GREGORIAN
METHOD:PUBLISH
X-ORIGINAL-URL:https://fks.schwerte.de
X-WR-CALDESC:Veranstaltungen für Friedrich-Kayser-Schule
REFRESH-INTERVAL;VALUE=DURATION:PT1H
X-Robots-Tag:noindex
X-PUBLISHED-TTL:PT1H
BEGIN:VTIMEZONE
TZID:Europe/Berlin
BEGIN:DAYLIGHT
TZOFFSETFROM:+0100
TZOFFSETTO:+0200
TZNAME:CEST
DTSTART:20230326T010000
END:DAYLIGHT
BEGIN:STANDARD
TZOFFSETFROM:+0200
TZOFFSETTO:+0100
TZNAME:CET
DTSTART:20231029T010000
END:STANDARD
BEGIN:DAYLIGHT
TZOFFSETFROM:+0100
TZOFFSETTO:+0200
TZNAME:CEST
DTSTART:20240331T010000
END:DAYLIGHT
BEGIN:STANDARD
TZOFFSETFROM:+0200
TZOFFSETTO:+0100
TZNAME:CET
DTSTART:20241027T010000
END:STANDARD
BEGIN:DAYLIGHT
TZOFFSETFROM:+0100
TZOFFSETTO:+0200
TZNAME:CEST
DTSTART:20250330T010000
END:DAYLIGHT
BEGIN:STANDARD
TZOFFSETFROM:+0200
TZOFFSETTO:+0100
TZNAME:CET
DTSTART:20251026T010000
END:STANDARD
END:VTIMEZONE
BEGIN:VEVENT
DTSTART;VALUE=DATE:20240701
DTEND;VALUE=DATE:20240702
DTSTAMP:20260424T133532
CREATED:20240318T155413Z
LAST-MODIFIED:20240318T155413Z
UID:3657-1719792000-1719878399@fks.schwerte.de
SUMMARY:Elsecup
DESCRIPTION:
URL:https://fks.schwerte.de/termin/elsecup-3/
END:VEVENT
BEGIN:VEVENT
DTSTART;VALUE=DATE:20240703
DTEND;VALUE=DATE:20240704
DTSTAMP:20260424T133532
CREATED:20240318T155449Z
LAST-MODIFIED:20240318T155449Z
UID:3659-1719964800-1720051199@fks.schwerte.de
SUMMARY:Abschlussgottesdienst
DESCRIPTION:
URL:https://fks.schwerte.de/termin/abschlussgottesdienst/
END:VEVENT
BEGIN:VEVENT
DTSTART;VALUE=DATE:20240705
DTEND;VALUE=DATE:20240821
DTSTAMP:20260424T133532
CREATED:20240704T155006Z
LAST-MODIFIED:20240704T155142Z
UID:3758-1720137600-1724198399@fks.schwerte.de
SUMMARY:Sommerferien
DESCRIPTION:
URL:https://fks.schwerte.de/termin/sommerferien-2/
CATEGORIES:Ferien
END:VEVENT
BEGIN:VEVENT
DTSTART;TZID=Europe/Berlin:20240705T080000
DTEND;TZID=Europe/Berlin:20240705T104500
DTSTAMP:20260424T133532
CREATED:20240704T155240Z
LAST-MODIFIED:20240704T155240Z
UID:3761-1720166400-1720176300@fks.schwerte.de
SUMMARY:Letzter Schultag
DESCRIPTION:
URL:https://fks.schwerte.de/termin/letzter-schultag/
END:VEVENT
BEGIN:VEVENT
DTSTART;TZID=Europe/Berlin:20240705T091500
DTEND;TZID=Europe/Berlin:20240705T100000
DTSTAMP:20260424T133532
CREATED:20240704T154931Z
LAST-MODIFIED:20240704T154931Z
UID:3756-1720170900-1720173600@fks.schwerte.de
SUMMARY:Abschluss 4. Klässler
DESCRIPTION:
URL:https://fks.schwerte.de/termin/abschluss-4-klaessler/
CATEGORIES:Ferien
END:VEVENT
END:VCALENDAR