BEGIN:VCALENDAR
VERSION:2.0
PRODID:-//Friedrich-Kayser-Schule - ECPv6.15.20//NONSGML v1.0//EN
CALSCALE:GREGORIAN
METHOD:PUBLISH
X-ORIGINAL-URL:https://fks.schwerte.de
X-WR-CALDESC:Veranstaltungen für Friedrich-Kayser-Schule
REFRESH-INTERVAL;VALUE=DURATION:PT1H
X-Robots-Tag:noindex
X-PUBLISHED-TTL:PT1H
BEGIN:VTIMEZONE
TZID:Europe/Berlin
BEGIN:DAYLIGHT
TZOFFSETFROM:+0100
TZOFFSETTO:+0200
TZNAME:CEST
DTSTART:20230326T010000
END:DAYLIGHT
BEGIN:STANDARD
TZOFFSETFROM:+0200
TZOFFSETTO:+0100
TZNAME:CET
DTSTART:20231029T010000
END:STANDARD
BEGIN:DAYLIGHT
TZOFFSETFROM:+0100
TZOFFSETTO:+0200
TZNAME:CEST
DTSTART:20240331T010000
END:DAYLIGHT
BEGIN:STANDARD
TZOFFSETFROM:+0200
TZOFFSETTO:+0100
TZNAME:CET
DTSTART:20241027T010000
END:STANDARD
BEGIN:DAYLIGHT
TZOFFSETFROM:+0100
TZOFFSETTO:+0200
TZNAME:CEST
DTSTART:20250330T010000
END:DAYLIGHT
BEGIN:STANDARD
TZOFFSETFROM:+0200
TZOFFSETTO:+0100
TZNAME:CET
DTSTART:20251026T010000
END:STANDARD
END:VTIMEZONE
BEGIN:VEVENT
DTSTART;VALUE=DATE:20240429
DTEND;VALUE=DATE:20240504
DTSTAMP:20260424T224524
CREATED:20240318T154939Z
LAST-MODIFIED:20240318T154939Z
UID:3645-1714348800-1714780799@fks.schwerte.de
SUMMARY:Trommelzauber
DESCRIPTION:
URL:https://fks.schwerte.de/termin/trommelzauber/
END:VEVENT
BEGIN:VEVENT
DTSTART;VALUE=DATE:20240506
DTEND;VALUE=DATE:20240507
DTSTAMP:20260424T224524
CREATED:20240318T155122Z
LAST-MODIFIED:20240318T155122Z
UID:3647-1714953600-1715039999@fks.schwerte.de
SUMMARY:3. Pädagogischer Tag (1.Hilfe)
DESCRIPTION:
URL:https://fks.schwerte.de/termin/3-paedagogischer-tag-1-hilfe/
END:VEVENT
BEGIN:VEVENT
DTSTART;VALUE=DATE:20240507
DTEND;VALUE=DATE:20240508
DTSTAMP:20260424T224524
CREATED:20240318T155154Z
LAST-MODIFIED:20240318T155154Z
UID:3649-1715040000-1715126399@fks.schwerte.de
SUMMARY:VERA 3 Mathe
DESCRIPTION:
URL:https://fks.schwerte.de/termin/vera-3-mathe/
END:VEVENT
BEGIN:VEVENT
DTSTART;VALUE=DATE:20240510
DTEND;VALUE=DATE:20240511
DTSTAMP:20260424T224524
CREATED:20240318T155232Z
LAST-MODIFIED:20240318T155232Z
UID:3651-1715299200-1715385599@fks.schwerte.de
SUMMARY:Beweglicher Ferientag
DESCRIPTION:
URL:https://fks.schwerte.de/termin/beweglicher-ferientag-7/
END:VEVENT
BEGIN:VEVENT
DTSTART;VALUE=DATE:20240523
DTEND;VALUE=DATE:20240524
DTSTAMP:20260424T224524
CREATED:20240318T155332Z
LAST-MODIFIED:20240318T155332Z
UID:3655-1716422400-1716508799@fks.schwerte.de
SUMMARY:Sportfest
DESCRIPTION:
URL:https://fks.schwerte.de/termin/sportfest-3/
END:VEVENT
BEGIN:VEVENT
DTSTART;VALUE=DATE:20240531
DTEND;VALUE=DATE:20240601
DTSTAMP:20260424T224524
CREATED:20240318T155304Z
LAST-MODIFIED:20240318T155304Z
UID:3653-1717113600-1717199999@fks.schwerte.de
SUMMARY:Beweglicher Ferientag
DESCRIPTION:
URL:https://fks.schwerte.de/termin/beweglicher-ferientag-8/
END:VEVENT
END:VCALENDAR