BEGIN:VCALENDAR
VERSION:2.0
PRODID:-//Friedrich-Kayser-Schule - ECPv6.15.20//NONSGML v1.0//EN
CALSCALE:GREGORIAN
METHOD:PUBLISH
X-WR-CALNAME:Friedrich-Kayser-Schule
X-ORIGINAL-URL:https://fks.schwerte.de
X-WR-CALDESC:Veranstaltungen für Friedrich-Kayser-Schule
REFRESH-INTERVAL;VALUE=DURATION:PT1H
X-Robots-Tag:noindex
X-PUBLISHED-TTL:PT1H
BEGIN:VTIMEZONE
TZID:Europe/Berlin
BEGIN:DAYLIGHT
TZOFFSETFROM:+0100
TZOFFSETTO:+0200
TZNAME:CEST
DTSTART:20230326T010000
END:DAYLIGHT
BEGIN:STANDARD
TZOFFSETFROM:+0200
TZOFFSETTO:+0100
TZNAME:CET
DTSTART:20231029T010000
END:STANDARD
BEGIN:DAYLIGHT
TZOFFSETFROM:+0100
TZOFFSETTO:+0200
TZNAME:CEST
DTSTART:20240331T010000
END:DAYLIGHT
BEGIN:STANDARD
TZOFFSETFROM:+0200
TZOFFSETTO:+0100
TZNAME:CET
DTSTART:20241027T010000
END:STANDARD
BEGIN:DAYLIGHT
TZOFFSETFROM:+0100
TZOFFSETTO:+0200
TZNAME:CEST
DTSTART:20250330T010000
END:DAYLIGHT
BEGIN:STANDARD
TZOFFSETFROM:+0200
TZOFFSETTO:+0100
TZNAME:CET
DTSTART:20251026T010000
END:STANDARD
END:VTIMEZONE
BEGIN:VEVENT
DTSTART;VALUE=DATE:20240323
DTEND;VALUE=DATE:20240406
DTSTAMP:20260425T163041
CREATED:20240108T155419Z
LAST-MODIFIED:20240108T155419Z
UID:3595-1711152000-1712361599@fks.schwerte.de
SUMMARY:Osterferien
DESCRIPTION:
URL:https://fks.schwerte.de/termin/osterferien-4/
END:VEVENT
BEGIN:VEVENT
DTSTART;VALUE=DATE:20240410
DTEND;VALUE=DATE:20240413
DTSTAMP:20260425T163041
CREATED:20240318T154735Z
LAST-MODIFIED:20240318T154735Z
UID:3639-1712707200-1712966399@fks.schwerte.de
SUMMARY:Klassenfahrt 4. Jg.
DESCRIPTION:
URL:https://fks.schwerte.de/termin/klassenfahrt-4-jg/
END:VEVENT
BEGIN:VEVENT
DTSTART;VALUE=DATE:20240423
DTEND;VALUE=DATE:20240425
DTSTAMP:20260425T163041
CREATED:20240318T154818Z
LAST-MODIFIED:20240318T154818Z
UID:3641-1713830400-1714003199@fks.schwerte.de
SUMMARY:VERA 3 Deutsch
DESCRIPTION:
URL:https://fks.schwerte.de/termin/vera-3-deutsch/
END:VEVENT
BEGIN:VEVENT
DTSTART;VALUE=DATE:20240429
DTEND;VALUE=DATE:20240504
DTSTAMP:20260425T163041
CREATED:20240318T154939Z
LAST-MODIFIED:20240318T154939Z
UID:3645-1714348800-1714780799@fks.schwerte.de
SUMMARY:Trommelzauber
DESCRIPTION:
URL:https://fks.schwerte.de/termin/trommelzauber/
END:VEVENT
END:VCALENDAR